Workbook

Sheet Форма 2.8
A1: Форма 2.8. Отчет об исполнении управляющей организацией договора управления, а также о выполнении товариществом, кооперативом смет доходов и расходов
A4: № п/п | B4: Наименование параметра | C4: Ед. изм. | D4: Значение
A5: 1. | B5: Дата заполнения/внесения изменений | C5: – | D5: 28/02/2016
A6: 2. | B6: Дата начала отчетного периода | C6: – | D6: 01/01/2015
A7: 3. | B7: Дата конца отчетного периода | C7: – | D7: 31/12/2015
A8: Общая информация о выполняемых работах (оказываемых услугах) по содержанию и текущему ремонту общего имущества
A9: 4. | B9: Авансовые платежи потребителей (на начало периода) | C9: руб. | D9: 0
A10: 5. | B10: Переходящие остатки денежных средств (на начало периода) | C10: руб. | D10: 0
A11: 6. | B11: Задолженность потребителей (на начало периода) | C11: руб. | D11: =[1]ерц!$Q$19+[1]ерц!$GJ$19+'[1]юл расч.'!$B$500 -> 89509.86
A12: 7. | B12: Начислено за работы (услуги) по содержанию и текущему ремонту, в том числе: | C12: руб. | D12: =[1]ерц!$R$19+[1]ерц!$GK$19+'[1]юл нач.'!$C$500 -> 353472.86
A13: 8. | B13: – за содержание дома | C13: руб. | D13: 353472.86
A14: 9. | B14: – за текущий ремонт | C14: руб. | D14: 0
A15: 10. | B15: – за услуги управления | C15: руб. | D15: 0
A16: 11. | B16: Получено денежных средств, в том числе: | C16: руб. | D16: =D17+D154+D20 -> 424506.14
A17: 12. | B17: – денежных средств от потребителей | C17: руб. | D17: =[1]ерц!$V$19+[1]ерц!$GO$19+'[1]юл нач.'!$E$500 -> 344220.07
A18: 13. | B18: – целевых взносов от потребителей | C18: руб. | D18: 0
A19: 14. | B19: – субсидий | C19: руб. | D19: 0
A20: 15. | B20: – денежных средств от использования общего имущества | C20: руб. | D20: 0
A21: 16. | B21: – прочие поступления | C21: руб. | D21: 0
A22: 17. | B22: Всего денежных средств с учетом остатков | C22: руб. | D22: =D16 -> 424506.14
A23: 18. | B23: Авансовые платежи потребителей (на конец периода) | C23: руб. | D23: 0
A24: 19. | B24: Переходящие остатки денежных средств (на конец периода) | C24: руб. | D24: 0
A25: 20. | B25: Задолженность потребителей (на конец периода) | C25: руб. | D25: =D11+D12-D16+D20 -> 18476.58
A26: Выполненные работы (оказанные услуги) по содержанию общего имущества и текущему ремонту в отчетном периоде (заполняется по каждому виду работы (услуги))
A28: 21. | B28: Наименование работы (услуги) | C28: – | D28: Уборка мест общего пользования
A29: 22. | B29: Годовая фактическая стоимость работ (услуг) | C29: руб. | D29: ='[1]20'!$H$294 -> 17854.08
A31: 21. | B31: Наименование работы (услуги) | C31: – | D31: Уборка придомовой территории
A32: 22. | B32: Годовая фактическая стоимость работ (услуг) | C32: руб. | D32: ='[1]20'!$H$295 -> 99806.4
A34: 21. | B34: Наименование работы (услуги) | C34: – | D34: Вывоз твердых бытовых отходов и КГМ
A35: 22. | B35: Годовая фактическая стоимость работ (услуг) | C35: руб. | D35: ='[1]20'!$H$291 -> 25349.738
A37: 21. | B37: Наименование работы (услуги) | C37: – | D37: Аварийно – техническое обслуживание
A38: 22. | B38: Годовая фактическая стоимость работ (услуг) | C38: руб. | D38: ='[1]20'!$H$290 -> 58726.8
A40: 21. | B40: Наименование работы (услуги) | C40: – | D40: Диспетчерское обслуживание
A41: 22. | B41: Годовая фактическая стоимость работ (услуг) | C41: руб. | D41: ='[1]20'!$H$292 -> 8898
A43: 21. | B43: Наименование работы (услуги) | C43: – | D43: Обслуживание УКУТ
A44: 22. | B44: Годовая фактическая стоимость работ (услуг) | C44: руб. | D44: 0
A46: 21. | B46: Наименование работы (услуги) | C46: – | D46: Дератизация, Дезинсекция
A47: 22. | B47: Годовая фактическая стоимость работ (услуг) | C47: руб. | D47: 0
A49: 21. | B49: Наименование работы (услуги) | C49: – | D49: Содержание лифтов
A50: 22. | B50: Годовая фактическая стоимость работ (услуг) | C50: руб. | D50: 0
A52: 21. | B52: Наименование работы (услуги) | C52: – | D52: Охрана прилегающей территории, контроль доступа
A53: 22. | B53: Годовая фактическая стоимость работ (услуг) | C53: руб. | D53: 0
A55: 21. | B55: Наименование работы (услуги) | C55: – | D55: Прочие работы и услуги
A56: 22. | B56: Годовая фактическая стоимость работ (услуг) | C56: руб. | D56: ='[1]20'!$H$286+'[1]20'!$H$288+'[1]20'!$H$293+'[1]20'!$H$298 -> 47443.898
A57: 21. | B57: Наименование работы (услуги) | C57: – | D57: Услуги по постановке и снятию граждан с регистрации по месту жительства и месту пребывания.
A58: 22. | B58: Годовая фактическая стоимость работ (услуг) | C58: руб. | D58: ='[1]26'!$M$29 -> 3487.7212
A60: 21. | B60: Наименование работы (услуги) | C60: – | D60: Услуги по ведению лицевых счетов по начислениям платы за жилое помещение и коммунальные услуги и приём денежных средств
A61: 22. | B61: Годовая фактическая стоимость работ (услуг) | C61: руб. | D61: ='[1]26'!$M$26 -> 36845.351
A63: 21. | B63: Наименование работы (услуги) | C63: – | D63: Управленческие расходы
A64: 22. | B64: Годовая фактическая стоимость работ (услуг) | C64: руб. | D64: ='[1]26'!$M$25 -> 54062.397
A66: 21. | B66: Наименование работы (услуги) | C66: – | D66: Бухгалтерские услуги
A67: 22. | B67: Годовая фактическая стоимость работ (услуг) | C67: руб. | D67: ='[1]26'!$M$27 -> 11701.874
A69: 21. | B69: Наименование работы (услуги) | C69: – | D69: Услуги по взысканию задолженности с населения
A70: 22. | B70: Годовая фактическая стоимость работ (услуг) | C70: руб. | D70: ='[1]26'!$M$30 -> 3744.5998
A72: Детальный перечень выполненных работ (оказанных услуг) в рамках выбранной работы (услуги) (заполняется по каждой выполненной работе (оказанной услуге) в пункте 21 настоящего документа).
A73: 23. | B73: Наименование работы (услуги), выполняемой в рамках указанного раздела работ (услуг) | C73: – | D73: Уборка мест общего пользования
A74: 24. | B74: Периодичность выполнения работ (оказания услуг) | C74: – | D74: 5 раз в неделю
A75: 25. | B75: Единица измерения | C75: – | D75: кв.м.
A76: 26. | B76: Стоимость на единицу измерения | C76: руб. | D76: 13.6
A77: 23. | B77: Наименование работы (услуги), выполняемой в рамках указанного раздела работ (услуг) | C77: – | D77: Уборка придомовой территории
A78: 24. | B78: Периодичность выполнения работ (оказания услуг) | C78: – | D78: 5 раз в неделю
A79: 25. | B79: Единица измерения | C79: – | D79: кв.м.
A80: 26. | B80: Стоимость на единицу измерения | C80: руб. | D80: 5.8
A81: 23. | B81: Наименование работы (услуги), выполняемой в рамках указанного раздела работ (услуг) | C81: – | D81: Вывоз твердых бытовых отходов и КГМ
A82: 24. | B82: Периодичность выполнения работ (оказания услуг) | D82: Ежедневно
A83: 25. | B83: Единица измерения | C83: – | D83: кв.м.
A84: 26. | B84: Стоимость на единицу измерения | C84: руб. | D84: 181.75
A85: 23. | B85: Наименование работы (услуги), выполняемой в рамках указанного раздела работ (услуг) | C85: – | D85: Аварийно – техническое обслуживание
A86: 24. | B86: Периодичность выполнения работ (оказания услуг) | C86: – | D86: Круглосуточно
A87: 25. | B87: Единица измерения | C87: – | D87: кв.м.
A88: 26. | B88: Стоимость на единицу измерения | C88: руб. | D88: 3.3
A89: 23. | B89: Наименование работы (услуги), выполняемой в рамках указанного раздела работ (услуг) | C89: – | D89: Диспетчерское обслуживание
A90: 24. | B90: Периодичность выполнения работ (оказания услуг) | C90: – | D90: Круглосуточно
A91: 25. | B91: Единица измерения | C91: – | D91: кв.м.
A92: 26. | B92: Стоимость на единицу измерения | C92: руб. | D92: 0.5
A93: 23. | B93: Наименование работы (услуги), выполняемой в рамках указанного раздела работ (услуг) | C93: – | D93: Обслуживание УКУТ
A94: 24. | B94: Периодичность выполнения работ (оказания услуг) | C94: – | D94: –
A95: 25. | B95: Единица измерения | C95: – | D95: –
A96: 26. | B96: Стоимость на единицу измерения | C96: руб. | D96: –
A97: 23. | B97: Наименование работы (услуги), выполняемой в рамках указанного раздела работ (услуг) | C97: – | D97: Дератизация, Дезинсекция
A98: 24. | B98: Периодичность выполнения работ (оказания услуг) | C98: – | D98: -
A99: 25. | B99: Единица измерения | C99: – | D99: -
A100: 26. | B100: Стоимость на единицу измерения | C100: руб. | D100: -
A101: 23. | B101: Наименование работы (услуги), выполняемой в рамках указанного раздела работ (услуг) | C101: – | D101: Содержание лифтов
A102: 24. | B102: Периодичность выполнения работ (оказания услуг) | C102: – | D102: –
A103: 25. | B103: Единица измерения | C103: – | D103: –
A104: 26. | B104: Стоимость на единицу измерения | C104: руб. | D104: –
... A111: 25. | B111: Единица измерения | C111: – | D111: кв.м.
A112: 26. | B112: Стоимость на единицу измерения | C112: руб. | D112: 31.99
A113: 23. | B113: Наименование работы (услуги), выполняемой в рамках указанного раздела работ (услуг) | C113: – | D113: Услуги по постановке и снятию граждан с регистрации по месту жительства и месту пребывания.
A114: 24. | B114: Периодичность выполнения работ (оказания услуг) | C114: – | D114: Постоянно
A115: 25. | B115: Единица измерения | C115: – | D115: кв.м.
A116: 26. | B116: Стоимость на единицу измерения | C116: руб. | D116: 2.35
A117: 23. | B117: Наименование работы (услуги), выполняемой в рамках указанного раздела работ (услуг) | C117: – | D117: Услуги по ведению лицевых счетов по начислениям платы за жилое помещение и коммунальные услуги и приём денежных средств
A118: 24. | B118: Периодичность выполнения работ (оказания услуг) | C118: – | D118: Постоянно
A119: 25. | B119: Единица измерения | C119: – | D119: кв.м.
A120: 26. | B120: Стоимость на единицу измерения | C120: руб. | D120: 24.84
A121: 23. | B121: Наименование работы (услуги), выполняемой в рамках указанного раздела работ (услуг) | C121: – | D121: Управленческие расходы
A122: 24. | B122: Периодичность выполнения работ (оказания услуг) | C122: – | D122: Постоянно
A123: 25. | B123: Единица измерения | C123: – | D123: кв.м.
...

Sheet Лист2

Sheet Лист3
