Workbook

Sheet Форма 2.8
A1: Форма 2.8. Отчет об исполнении управляющей организацией договора управления, а также о выполнении товариществом, кооперативом смет доходов и расходов
A4: № п/п | B4: Наименование параметра | C4: Ед. изм. | D4: Значение
A5: 1. | B5: Дата заполнения/внесения изменений | C5: – | D5: 28/02/2016
A6: 2. | B6: Дата начала отчетного периода | C6: – | D6: 01/01/2015
A7: 3. | B7: Дата конца отчетного периода | C7: – | D7: 31/12/2015
A8: Общая информация о выполняемых работах (оказываемых услугах) по содержанию и текущему ремонту общего имущества
A9: 4. | B9: Авансовые платежи потребителей (на начало периода) | C9: руб. | D9: 0
A10: 5. | B10: Переходящие остатки денежных средств (на начало периода) | C10: руб. | D10: 0
A11: 6. | B11: Задолженность потребителей (на начало периода) | C11: руб. | D11: =[1]ерц!$Q$19+[1]ерц!$GJ$19+'[1]юл расч.'!$B$500 -> 89509.86
A12: 7. | B12: Начислено за работы (услуги) по содержанию и текущему ремонту, в том числе: | C12: руб. | D12: =[1]ерц!$R$19+[1]ерц!$GK$19+'[1]юл нач.'!$C$500 -> 353472.86
A13: 8. | B13: – за содержание дома | C13: руб. | D13: 353472.86
A14: 9. | B14: – за текущий ремонт | C14: руб. | D14: 0
A15: 10. | B15: – за услуги управления | C15: руб. | D15: 0
A16: 11. | B16: Получено денежных средств, в том числе: | C16: руб. | D16: =D17+D154+D20 -> 424506.14
A17: 12. | B17: – денежных средств от потребителей | C17: руб. | D17: =[1]ерц!$V$19+[1]ерц!$GO$19+'[1]юл нач.'!$E$500 -> 344220.07
A18: 13. | B18: – целевых взносов от потребителей | C18: руб. | D18: 0
A19: 14. | B19: – субсидий | C19: руб. | D19: 0
A20: 15. | B20: – денежных средств от использования общего имущества | C20: руб. | D20: 0
A21: 16. | B21: – прочие поступления | C21: руб. | D21: 0
A22: 17. | B22: Всего денежных средств с учетом остатков | C22: руб. | D22: =D16 -> 424506.14
A23: 18. | B23: Авансовые платежи потребителей (на конец периода) | C23: руб. | D23: 0
A24: 19. | B24: Переходящие остатки денежных средств (на конец периода) | C24: руб. | D24: 0
A25: 20. | B25: Задолженность потребителей (на конец периода) | C25: руб. | D25: =D11+D12-D16+D20 -> 18476.58
A26: Выполненные работы (оказанные услуги) по содержанию общего имущества и текущему ремонту в отчетном периоде (заполняется по каждому виду работы (услуги))
A28: 21. | B28: Наименование работы (услуги) | C28: – | D28: Уборка мест общего пользования
A29: 22. | B29: Годовая фактическая стоимость работ (услуг) | C29: руб. | D29: ='[1]20'!$H$294 -> 17854.08
A31: 21. | B31: Наименование работы (услуги) | C31: – | D31: Уборка придомовой территории
A32: 22. | B32: Годовая фактическая стоимость работ (услуг) | C32: руб. | D32: ='[1]20'!$H$295 -> 99806.4
A34: 21. | B34: Наименование работы (услуги) | C34: – | D34: Вывоз твердых бытовых отходов и КГМ
A35: 22. | B35: Годовая фактическая стоимость работ (услуг) | C35: руб. | D35: ='[1]20'!$H$291 -> 25349.738
A37: 21. | B37: Наименование работы (услуги) | C37: – | D37: Аварийно – техническое обслуживание
A38: 22. | B38: Годовая фактическая стоимость работ (услуг) | C38: руб. | D38: ='[1]20'!$H$290 -> 58726.8
A40: 21. | B40: Наименование работы (услуги) | C40: – | D40: Диспетчерское обслуживание
A41: 22. | B41: Годовая фактическая стоимость работ (услуг) | C41: руб. | D41: ='[1]20'!$H$292 -> 8898
A43: 21. | B43: Наименование работы (услуги) | C43: – | D43: Обслуживание УКУТ
A44: 22. | B44: Годовая фактическая стоимость работ (услуг) | C44: руб. | D44: 0
A46: 21. | B46: Наименование работы (услуги) | C46: – | D46: Дератизация, Дезинсекция
A47: 22. | B47: Годовая фактическая стоимость работ (услуг) | C47: руб. | D47: 0
A49: 21. | B49: Наименование работы (услуги) | C49: – | D49: Содержание лифтов
A50: 22. | B50: Годовая фактическая стоимость работ (услуг) | C50: руб. | D50: 0
...

Sheet Лист2

Sheet Лист3
